BEGIN:VCALENDAR
VERSION:2.0
PRODID:-//Rantoul Chamber of Commerce - ECPv6.15.20//NONSGML v1.0//EN
CALSCALE:GREGORIAN
METHOD:PUBLISH
X-ORIGINAL-URL:https://rantoulchamber.com
X-WR-CALDESC:Events for Rantoul Chamber of Commerce
REFRESH-INTERVAL;VALUE=DURATION:PT1H
X-Robots-Tag:noindex
X-PUBLISHED-TTL:PT1H
BEGIN:VTIMEZONE
TZID:UTC
BEGIN:STANDARD
TZOFFSETFROM:+0000
TZOFFSETTO:+0000
TZNAME:UTC
DTSTART:20200101T000000
END:STANDARD
END:VTIMEZONE
BEGIN:VEVENT
DTSTART;VALUE=DATE:20210702
DTEND;VALUE=DATE:20210703
DTSTAMP:20260423T202726
CREATED:20210621T195851Z
LAST-MODIFIED:20210622T041725Z
UID:9073-1625184000-1625270399@rantoulchamber.com
SUMMARY:Freedom Friday
DESCRIPTION:Freedom Fridays 2021 \nJoin us every Friday downtown from July 2nd-August 20th for live music and family fun activities! Bring your lawn chairs!  \nJuly 2nd Kickoff \n\nLive Music with Chrissy Sparks | Country & Oldies \nBags Tournament\nJoyful Bubbles\nLaser Tag $5 p/p ALPHA DOG ENTERTAINMENT MOBILE LASER TAG – WE BRING THE FUN TO YOU!!! (alphadog-entertainment.com)\n5k/1k \nBalloon Animals by: Aaron’s Party Balloons from 6-8pm\nFree Family Yard Games\nFireworks @ Airport\n\n  \n 
URL:https://rantoulchamber.com/event/freedom-friday-july-2/
LOCATION:IL
CATEGORIES:Community Events
ATTACH;FMTTYPE=image/jpeg:https://rantoulchamber.com/wp-content/uploads/2021/06/american-flag.jpg
END:VEVENT
END:VCALENDAR