BEGIN:VCALENDAR
VERSION:2.0
PRODID:-//Rantoul Chamber of Commerce - ECPv6.15.20//NONSGML v1.0//EN
CALSCALE:GREGORIAN
METHOD:PUBLISH
X-WR-CALNAME:Rantoul Chamber of Commerce
X-ORIGINAL-URL:https://rantoulchamber.com
X-WR-CALDESC:Events for Rantoul Chamber of Commerce
REFRESH-INTERVAL;VALUE=DURATION:PT1H
X-Robots-Tag:noindex
X-PUBLISHED-TTL:PT1H
BEGIN:VTIMEZONE
TZID:UTC
BEGIN:STANDARD
TZOFFSETFROM:+0000
TZOFFSETTO:+0000
TZNAME:UTC
DTSTART:20210101T000000
END:STANDARD
END:VTIMEZONE
BEGIN:VTIMEZONE
TZID:America/Chicago
BEGIN:DAYLIGHT
TZOFFSETFROM:-0600
TZOFFSETTO:-0500
TZNAME:CDT
DTSTART:20220313T080000
END:DAYLIGHT
BEGIN:STANDARD
TZOFFSETFROM:-0500
TZOFFSETTO:-0600
TZNAME:CST
DTSTART:20221106T070000
END:STANDARD
BEGIN:DAYLIGHT
TZOFFSETFROM:-0600
TZOFFSETTO:-0500
TZNAME:CDT
DTSTART:20230312T080000
END:DAYLIGHT
BEGIN:STANDARD
TZOFFSETFROM:-0500
TZOFFSETTO:-0600
TZNAME:CST
DTSTART:20231105T070000
END:STANDARD
BEGIN:DAYLIGHT
TZOFFSETFROM:-0600
TZOFFSETTO:-0500
TZNAME:CDT
DTSTART:20240310T080000
END:DAYLIGHT
BEGIN:STANDARD
TZOFFSETFROM:-0500
TZOFFSETTO:-0600
TZNAME:CST
DTSTART:20241103T070000
END:STANDARD
END:VTIMEZONE
BEGIN:VEVENT
DTSTART;TZID=UTC:20251211T173000
DTEND;TZID=UTC:20251211T193000
DTSTAMP:20260423T230502
CREATED:20251204T202224Z
LAST-MODIFIED:20251204T202224Z
UID:11122-1765474200-1765481400@rantoulchamber.com
SUMMARY:Christmas After Hours
DESCRIPTION:
URL:https://rantoulchamber.com/event/christmas-after-hours/
ATTACH;FMTTYPE=image/png:https://rantoulchamber.com/wp-content/uploads/2025/12/Bank-of-Rantoul-After-Hours.png
END:VEVENT
BEGIN:VEVENT
DTSTART;TZID=UTC:20251206T170000
DTEND;TZID=UTC:20251206T180000
DTSTAMP:20260423T230502
CREATED:20251201T151710Z
LAST-MODIFIED:20251201T151710Z
UID:11117-1765040400-1765044000@rantoulchamber.com
SUMMARY:Christmas Parade
DESCRIPTION:
URL:https://rantoulchamber.com/event/christmas-parade/
ATTACH;FMTTYPE=image/jpeg:https://rantoulchamber.com/wp-content/uploads/2025/12/Christmas-Parade.jpg
END:VEVENT
BEGIN:VEVENT
DTSTART;TZID=UTC:20251206T150000
DTEND;TZID=UTC:20251206T170000
DTSTAMP:20260423T230502
CREATED:20251201T151513Z
LAST-MODIFIED:20251201T151513Z
UID:11114-1765033200-1765040400@rantoulchamber.com
SUMMARY:Christmas in the Village
DESCRIPTION:
URL:https://rantoulchamber.com/event/christmas-in-the-village/
ATTACH;FMTTYPE=image/jpeg:https://rantoulchamber.com/wp-content/uploads/2025/12/Christmas-in-the-Village.jpg
END:VEVENT
BEGIN:VEVENT
DTSTART;TZID=UTC:20251114T180000
DTEND;TZID=UTC:20251114T220000
DTSTAMP:20260423T230502
CREATED:20251001T143254Z
LAST-MODIFIED:20251001T143254Z
UID:11090-1763143200-1763157600@rantoulchamber.com
SUMMARY:Annual Banquet & Awards Dinner
DESCRIPTION:
URL:https://rantoulchamber.com/event/annual-banquet-awards-dinner/
LOCATION:The Linden Banquet Center\, 224 Wheat Avenue\, Rantoul\, IL\, 61866
ATTACH;FMTTYPE=image/png:https://rantoulchamber.com/wp-content/uploads/2025/10/Postcard-Size-Front-.png
END:VEVENT
BEGIN:VEVENT
DTSTART;TZID=UTC:20251003T100000
DTEND;TZID=UTC:20251003T110000
DTSTAMP:20260423T230502
CREATED:20250926T150632Z
LAST-MODIFIED:20250926T150726Z
UID:11085-1759485600-1759489200@rantoulchamber.com
SUMMARY:Ribbon Cutting - A House of Flowers & Kino's Coffee
DESCRIPTION:
URL:https://rantoulchamber.com/event/ribbon-cutting-a-house-of-flowers-kinos-coffee/
ATTACH;FMTTYPE=image/png:https://rantoulchamber.com/wp-content/uploads/2025/09/House-of-Flowers-Kinos-.png
END:VEVENT
BEGIN:VEVENT
DTSTART;TZID=UTC:20250913T180000
DTEND;TZID=UTC:20250913T220000
DTSTAMP:20260423T230502
CREATED:20250530T161717Z
LAST-MODIFIED:20250730T141805Z
UID:11023-1757786400-1757800800@rantoulchamber.com
SUMMARY:7th Annual Glow Golf
DESCRIPTION:The 7th Annual Glow Golf at Willow Pond Golf Course will be on Saturday\, September 13th! Tiered registration with sponsorships open from July 25th-August 4th\, members opening August 5th-August 15th and the public will open on August 16th. 4 person teams and all players must be 21. Limited spots are available so sign up early.
URL:https://rantoulchamber.com/event/7th-annual-glow-golf/
LOCATION:Willow Pond Golf Course\, 808 Golfcourse Road\, Rantoul\, IL\, 61866\, United States
ATTACH;FMTTYPE=image/png:https://rantoulchamber.com/wp-content/uploads/2025/05/Save-the-Date-Glow-Golf-9-13-255-x-4-in-Instagram-Post-2.png
END:VEVENT
BEGIN:VEVENT
DTSTART;TZID=UTC:20250911T173000
DTEND;TZID=UTC:20250911T193000
DTSTAMP:20260423T230502
CREATED:20250827T154816Z
LAST-MODIFIED:20250827T154816Z
UID:11066-1757611800-1757619000@rantoulchamber.com
SUMMARY:August Business After Hours
DESCRIPTION:
URL:https://rantoulchamber.com/event/august-business-after-hours/
LOCATION:Hardy’s Reindeer Ranch\, 1356 County Rd. 2900 N.\, IL\, 61866\, United States
ATTACH;FMTTYPE=image/png:https://rantoulchamber.com/wp-content/uploads/2025/08/September-After-Hours-Hardys-.png
END:VEVENT
BEGIN:VEVENT
DTSTART;TZID=UTC:20250813T073000
DTEND;TZID=UTC:20250813T090000
DTSTAMP:20260423T230502
CREATED:20250730T141126Z
LAST-MODIFIED:20250730T141319Z
UID:11045-1755070200-1755075600@rantoulchamber.com
SUMMARY:Coffee & Connections with Eagle's View Supportive Living
DESCRIPTION:Join us for a morning of networking\, connection and community over coffee and a light breakfast on Wednesday\, August 13th. Doors open at 7:30 a.m. and presentation will start at 8 a.m. Don’t forget to RSVP to dir@rantoulchamber.com.
URL:https://rantoulchamber.com/event/coffee-connections-with-eagles-view-supportive-living/
LOCATION:Eagle’s View Supportive Living\, 200 W. International Ave.\, Rantoul\, IL\, 61866\, United States
ATTACH;FMTTYPE=image/png:https://rantoulchamber.com/wp-content/uploads/2025/07/August-Coffee-Connection-1.png
END:VEVENT
BEGIN:VEVENT
DTSTART;TZID=UTC:20250708T113000
DTEND;TZID=UTC:20250708T130000
DTSTAMP:20260423T230502
CREATED:20250627T183305Z
LAST-MODIFIED:20250627T183305Z
UID:11037-1751974200-1751979600@rantoulchamber.com
SUMMARY:Lunch & Learn
DESCRIPTION:
URL:https://rantoulchamber.com/event/lunch-learn/
ATTACH;FMTTYPE=image/png:https://rantoulchamber.com/wp-content/uploads/2025/06/July-Lunch-Learn-Flyer-.png
END:VEVENT
BEGIN:VEVENT
DTSTART;TZID=UTC:20250703T210000
DTEND;TZID=UTC:20250704T110000
DTSTAMP:20260423T230502
CREATED:20250627T182921Z
LAST-MODIFIED:20250627T183116Z
UID:11034-1751576400-1751626800@rantoulchamber.com
SUMMARY:
DESCRIPTION:
URL:https://rantoulchamber.com/event/11034/
ATTACH;FMTTYPE=image/jpeg:https://rantoulchamber.com/wp-content/uploads/2025/06/Fireworks-4th-of-July.jpg
END:VEVENT
BEGIN:VEVENT
DTSTART;TZID=UTC:20250612T173000
DTEND;TZID=UTC:20250612T193000
DTSTAMP:20260423T230502
CREATED:20250530T155317Z
LAST-MODIFIED:20250530T155317Z
UID:11019-1749749400-1749756600@rantoulchamber.com
SUMMARY:June Business After Hours - The Fringe
DESCRIPTION:
URL:https://rantoulchamber.com/event/june-business-after-hours-the-fringe/
LOCATION:The Fringe\, 849 Stone Bridge Dr.\, Rantoul\, IL\, 61866\, United States
ATTACH;FMTTYPE=image/png:https://rantoulchamber.com/wp-content/uploads/2025/05/June-The-Fringe-.png
END:VEVENT
BEGIN:VEVENT
DTSTART;TZID=UTC:20250326T150000
DTEND;TZID=UTC:20250326T153000
DTSTAMP:20260423T230502
CREATED:20250311T143233Z
LAST-MODIFIED:20250311T143233Z
UID:11009-1743001200-1743003000@rantoulchamber.com
SUMMARY:Ribbon Cutting at Flavor Fusion
DESCRIPTION:
URL:https://rantoulchamber.com/event/ribbon-cutting-at-flavor-fusion/
ATTACH;FMTTYPE=image/jpeg:https://rantoulchamber.com/wp-content/uploads/2025/03/Flavor-Fusion-Ribbon-Cutting-.jpg
END:VEVENT
BEGIN:VEVENT
DTSTART;TZID=UTC:20250313T173000
DTEND;TZID=UTC:20250313T193000
DTSTAMP:20260423T230502
CREATED:20250228T190840Z
LAST-MODIFIED:20250228T190840Z
UID:11005-1741887000-1741894200@rantoulchamber.com
SUMMARY:March Business After Hours at The Villas of Holly Brook
DESCRIPTION:
URL:https://rantoulchamber.com/event/march-business-after-hours-at-the-villas-of-holly-brook/
ATTACH;FMTTYPE=image/jpeg:https://rantoulchamber.com/wp-content/uploads/2025/02/Villas-of-Holly-Brook-BAH-.jpg
END:VEVENT
BEGIN:VEVENT
DTSTART;TZID=UTC:20250114T113000
DTEND;TZID=UTC:20250114T130000
DTSTAMP:20260423T230502
CREATED:20241223T193957Z
LAST-MODIFIED:20241223T194106Z
UID:10975-1736854200-1736859600@rantoulchamber.com
SUMMARY:Lunch & Learn ~ Tuesday\, January 14th
DESCRIPTION:
URL:https://rantoulchamber.com/event/lunch-learn-tuesday-january-14th/
LOCATION:Rantoul Family Sports Complex\, 744 S Murray Road\, Rantoul
ATTACH;FMTTYPE=image/jpeg:https://rantoulchamber.com/wp-content/uploads/2024/12/January-14-th-State-of-the-Village.jpg
END:VEVENT
BEGIN:VEVENT
DTSTART;TZID=UTC:20241108T180000
DTEND;TZID=UTC:20241108T220000
DTSTAMP:20260423T230502
CREATED:20241001T165000Z
LAST-MODIFIED:20241001T165105Z
UID:10944-1731088800-1731103200@rantoulchamber.com
SUMMARY:RACC Annual Awards Banquet
DESCRIPTION:Purchase Tickets at – https://RACCMEMBERBANQUET2024.eventbrite.com\n  \nNominations can be made at – Excellence in Charity Award 2020 Nomination Form (jotform.com)
URL:https://rantoulchamber.com/event/racc-annual-awards-banquet/
LOCATION:The Linden Banquet Center\, 224 Wheat Avenue\, Rantoul\, IL\, 61866
ATTACH;FMTTYPE=application/pdf:https://rantoulchamber.com/wp-content/uploads/2024/10/Banquet-Flyer-made-by-Kim-1.pdf
END:VEVENT
BEGIN:VEVENT
DTSTART;TZID=UTC:20240921T180000
DTEND;TZID=UTC:20240921T230000
DTSTAMP:20260423T230502
CREATED:20240705T183205Z
LAST-MODIFIED:20240705T183723Z
UID:10910-1726941600-1726959600@rantoulchamber.com
SUMMARY:RACC Glow Golf Outing
DESCRIPTION:
URL:https://rantoulchamber.com/event/racc-glow-golf-outing/
LOCATION:Willow Pond Golf Course\, 808 Golfcourse Road\, Rantoul\, IL\, 61866\, United States
ATTACH;FMTTYPE=image/jpeg:https://rantoulchamber.com/wp-content/uploads/2024/07/Golf-Outing-Flyer.jpg
END:VEVENT
BEGIN:VEVENT
DTSTART;TZID=UTC:20240327T080000
DTEND;TZID=UTC:20240327T170000
DTSTAMP:20260423T230502
CREATED:20240327T185949Z
LAST-MODIFIED:20240327T185949Z
UID:10890-1711526400-1711558800@rantoulchamber.com
SUMMARY:Pink Punch Marketing
DESCRIPTION:Carissa Nelson\, owner of Pink Punch Marketing\, will be leading a course on the platform Canva at Parkland Community College. Carissa is incredibly talented\, creative and her knowledge of Canva is simply amazing! Sign up today. The classes start very soon!!!
URL:https://rantoulchamber.com/event/pink-punch-marketing/
END:VEVENT
BEGIN:VEVENT
DTSTART;TZID=UTC:20231220T173000
DTEND;TZID=UTC:20231220T193000
DTSTAMP:20260423T230502
CREATED:20220405T161348Z
LAST-MODIFIED:20231204T201635Z
UID:10262-1703093400-1703100600@rantoulchamber.com
SUMMARY:Holiday Business After Hours Hosted by Bank of Rantoul
DESCRIPTION:Bank of Rantoul RACC Christmas Business Afterhours 2023
URL:https://rantoulchamber.com/event/business-after-hours/
LOCATION:Knights of Columbus\, 1001 Ohio Avenue\, Rantoul\, IL\, 61866\, United States
CATEGORIES:Chamber Meetings,Community Events
ATTACH;FMTTYPE=application/pdf:https://rantoulchamber.com/wp-content/uploads/2022/04/Bank-of-Rantoul-RACC-Christmas-business-afterhours2023-1.pdf
END:VEVENT
BEGIN:VEVENT
DTSTART;TZID=UTC:20231110T180000
DTEND;TZID=UTC:20231110T210000
DTSTAMP:20260423T230502
CREATED:20211101T192228Z
LAST-MODIFIED:20230918T165735Z
UID:9785-1699639200-1699650000@rantoulchamber.com
SUMMARY:RACC Annual Member's Banquet
DESCRIPTION:
URL:https://rantoulchamber.com/event/annual-members-banquet/
LOCATION:The Linden Banquet Center\, 224 Wheat Avenue\, Rantoul\, IL\, 61866
CATEGORIES:Chamber Meetings
ATTACH;FMTTYPE=image/png:https://rantoulchamber.com/wp-content/uploads/2021/11/Promo.png
END:VEVENT
BEGIN:VEVENT
DTSTART;TZID=America/Chicago:20230915T183000
DTEND;TZID=America/Chicago:20230915T223000
DTSTAMP:20260423T230502
CREATED:20210618T143914Z
LAST-MODIFIED:20230905T213606Z
UID:8999-1694802600-1694817000@rantoulchamber.com
SUMMARY:RACC Glow Golf Outing
DESCRIPTION:
URL:https://rantoulchamber.com/event/glow-golf-outing-september-17th/
LOCATION:Brookhill Golf Course\, 3150 County Rd 1700 E\, Rantoul\, IL\, 61866\, United States
CATEGORIES:Community Events
END:VEVENT
BEGIN:VEVENT
DTSTART;TZID=UTC:20230707T180000
DTEND;TZID=UTC:20230728T210000
DTSTAMP:20260423T230502
CREATED:20210621T213648Z
LAST-MODIFIED:20230714T170121Z
UID:9150-1688752800-1690578000@rantoulchamber.com
SUMMARY:Freedom Fridays 2023
DESCRIPTION:Join us every Friday downtown from July 7th-July 28th for live music and family fun activities! Bring your lawn chairs! \n\nBags tournaments\nFree yard games\nMo’s Burritos Food Truck\nIce Daddys Frozen Treats\nFoam Parties\nLaser tag $5\nJoyful Bubbles\nFoam Party\nFree Caricatures
URL:https://rantoulchamber.com/event/freedom-fridays/
LOCATION:Outside of Rantoul Area Chamber of Commerce\, 120 E Sangamon Ave\, Rantoul\, 61866\, United States
CATEGORIES:Community Events
ATTACH;FMTTYPE=image/png:https://rantoulchamber.com/wp-content/uploads/2021/06/Activity-Flyer-.png
END:VEVENT
BEGIN:VEVENT
DTSTART;TZID=UTC:20230707T160000
DTEND;TZID=UTC:20230707T190000
DTSTAMP:20260423T230502
CREATED:20230605T190434Z
LAST-MODIFIED:20230605T190434Z
UID:10812-1688745600-1688756400@rantoulchamber.com
SUMMARY:Rantoul Farmer's Market
DESCRIPTION:
URL:https://rantoulchamber.com/event/rantoul-farmers-market/
ATTACH;FMTTYPE=image/jpeg:https://rantoulchamber.com/wp-content/uploads/2023/06/Farmers-Market.jpg
END:VEVENT
BEGIN:VEVENT
DTSTART;TZID=America/Chicago:20230704T093000
DTEND;TZID=America/Chicago:20230704T093000
DTSTAMP:20260423T230502
CREATED:20210618T140939Z
LAST-MODIFIED:20230609T163318Z
UID:8990-1688463000-1688463000@rantoulchamber.com
SUMMARY:RACC Fourth of July Parade
DESCRIPTION:Join us for the annual RACC 4th of July parade on Tuesday\, July 4th at 9:30 am. YES\, there’s candy! \nLine up is at 7/7:30am on Maplewood Drive \nParade starts at 9:30am \nWe start at MapleGrove Plaza\, turning right onto 136\, then another right onto Grove Street\, left on Fredrick and then through to end at Wabash Park. \nRegister to be in the parade here: https://forms.gle/opjUGAFR3b4qkVyH6
URL:https://rantoulchamber.com/event/fourth-of-july-parade/
CATEGORIES:Community Events
ATTACH;FMTTYPE=image/png:https://rantoulchamber.com/wp-content/uploads/2021/06/Parade-1.png
END:VEVENT
BEGIN:VEVENT
DTSTART;TZID=UTC:20230704T073000
DTEND;TZID=UTC:20230704T110000
DTSTAMP:20260423T230502
CREATED:20230522T162638Z
LAST-MODIFIED:20230522T162638Z
UID:10797-1688455800-1688468400@rantoulchamber.com
SUMMARY:Rantoul Rotary's Pancake Breakfast
DESCRIPTION:
URL:https://rantoulchamber.com/event/rantoul-rotarys-pancake-breakfast/
LOCATION:Rantoul Township Highschool Cafetorium
ATTACH;FMTTYPE=image/png:https://rantoulchamber.com/wp-content/uploads/2023/05/Pancake-Breakfast.png
END:VEVENT
BEGIN:VEVENT
DTSTART;TZID=UTC:20230703T213000
DTEND;TZID=UTC:20230703T213000
DTSTAMP:20260423T230502
CREATED:20220210T170502Z
LAST-MODIFIED:20230608T204945Z
UID:9952-1688419800-1688419800@rantoulchamber.com
SUMMARY:Rantoul Fireworks
DESCRIPTION:
URL:https://rantoulchamber.com/event/rantoul-fireworks/
LOCATION:Rantoul Aviation Center\, 6 Aviation Center Drive\, Rantoul\, IL\, 61866
CATEGORIES:Community Events
ATTACH;FMTTYPE=image/png:https://rantoulchamber.com/wp-content/uploads/2022/02/Fireworks-2.png
END:VEVENT
BEGIN:VEVENT
DTSTART;TZID=UTC:20230701T070000
DTEND;TZID=UTC:20230701T200000
DTSTAMP:20260423T230502
CREATED:20230622T133833Z
LAST-MODIFIED:20230622T133833Z
UID:10819-1688194800-1688241600@rantoulchamber.com
SUMMARY:Gifford Community Celebration
DESCRIPTION:
URL:https://rantoulchamber.com/event/gifford-community-celebration/
ATTACH;FMTTYPE=image/jpeg:https://rantoulchamber.com/wp-content/uploads/2023/06/Gifford-Community-Celebration.jpg
END:VEVENT
BEGIN:VEVENT
DTSTART;TZID=UTC:20230318T110000
DTEND;TZID=UTC:20230318T170000
DTSTAMP:20260423T230502
CREATED:20230127T163907Z
LAST-MODIFIED:20230127T163952Z
UID:10727-1679137200-1679158800@rantoulchamber.com
SUMMARY:Barstool Golf
DESCRIPTION:
URL:https://rantoulchamber.com/event/barstool-golf/
ATTACH;FMTTYPE=image/png:https://rantoulchamber.com/wp-content/uploads/2023/01/Barstool-Golf-Promo.png
END:VEVENT
BEGIN:VEVENT
DTSTART;TZID=UTC:20230304T170000
DTEND;TZID=UTC:20230304T220000
DTSTAMP:20260423T230502
CREATED:20230127T163035Z
LAST-MODIFIED:20230127T163035Z
UID:10724-1677949200-1677967200@rantoulchamber.com
SUMMARY:Cash Bash
DESCRIPTION:
URL:https://rantoulchamber.com/event/cash-bash/
LOCATION:Knights of Columbus\, 1001 Ohio Avenue\, Rantoul\, IL\, 61866\, United States
ATTACH;FMTTYPE=image/png:https://rantoulchamber.com/wp-content/uploads/2023/01/Cash-Bash-Promo-2023.png
END:VEVENT
BEGIN:VEVENT
DTSTART;TZID=UTC:20230114T183000
DTEND;TZID=UTC:20230114T220000
DTSTAMP:20260423T230502
CREATED:20221102T161536Z
LAST-MODIFIED:20221102T161927Z
UID:10613-1673721000-1673733600@rantoulchamber.com
SUMMARY:Glo- Bingo
DESCRIPTION:
URL:https://rantoulchamber.com/event/glo-bingo/
LOCATION:Knights of Columbus\, 1001 Ohio Avenue\, Rantoul\, IL\, 61866\, United States
ATTACH;FMTTYPE=image/png:https://rantoulchamber.com/wp-content/uploads/2022/11/Glo-Bingo-FB-Promo.png
END:VEVENT
BEGIN:VEVENT
DTSTART;TZID=UTC:20221202T180000
DTEND;TZID=UTC:20221202T180000
DTSTAMP:20260423T230502
CREATED:20211005T155331Z
LAST-MODIFIED:20221102T161704Z
UID:9748-1670004000-1670004000@rantoulchamber.com
SUMMARY:RACC 2022 Light up Rantoul Christmas Parade
DESCRIPTION:
URL:https://rantoulchamber.com/event/2021-light-up-rantoul-christmas-parade/
CATEGORIES:Community Events
ATTACH;FMTTYPE=image/png:https://rantoulchamber.com/wp-content/uploads/2021/10/Promo-1.png
END:VEVENT
END:VCALENDAR