BEGIN:VCALENDAR
VERSION:2.0
PRODID:-//Rantoul Chamber of Commerce - ECPv6.15.20//NONSGML v1.0//EN
CALSCALE:GREGORIAN
METHOD:PUBLISH
X-WR-CALNAME:Rantoul Chamber of Commerce
X-ORIGINAL-URL:https://rantoulchamber.com
X-WR-CALDESC:Events for Rantoul Chamber of Commerce
REFRESH-INTERVAL;VALUE=DURATION:PT1H
X-Robots-Tag:noindex
X-PUBLISHED-TTL:PT1H
BEGIN:VTIMEZONE
TZID:UTC
BEGIN:STANDARD
TZOFFSETFROM:+0000
TZOFFSETTO:+0000
TZNAME:UTC
DTSTART:20220101T000000
END:STANDARD
END:VTIMEZONE
BEGIN:VEVENT
DTSTART;TZID=UTC:20230707T180000
DTEND;TZID=UTC:20230728T210000
DTSTAMP:20260425T150328
CREATED:20210621T213648Z
LAST-MODIFIED:20230714T170121Z
UID:9150-1688752800-1690578000@rantoulchamber.com
SUMMARY:Freedom Fridays 2023
DESCRIPTION:Join us every Friday downtown from July 7th-July 28th for live music and family fun activities! Bring your lawn chairs! \n\nBags tournaments\nFree yard games\nMo’s Burritos Food Truck\nIce Daddys Frozen Treats\nFoam Parties\nLaser tag $5\nJoyful Bubbles\nFoam Party\nFree Caricatures
URL:https://rantoulchamber.com/event/freedom-fridays/
LOCATION:Outside of Rantoul Area Chamber of Commerce\, 120 E Sangamon Ave\, Rantoul\, 61866\, United States
CATEGORIES:Community Events
ATTACH;FMTTYPE=image/png:https://rantoulchamber.com/wp-content/uploads/2021/06/Activity-Flyer-.png
END:VEVENT
END:VCALENDAR