BEGIN:VCALENDAR
VERSION:2.0
PRODID:-//Rantoul Chamber of Commerce - ECPv6.15.20//NONSGML v1.0//EN
CALSCALE:GREGORIAN
METHOD:PUBLISH
X-ORIGINAL-URL:https://rantoulchamber.com
X-WR-CALDESC:Events for Rantoul Chamber of Commerce
REFRESH-INTERVAL;VALUE=DURATION:PT1H
X-Robots-Tag:noindex
X-PUBLISHED-TTL:PT1H
BEGIN:VTIMEZONE
TZID:UTC
BEGIN:STANDARD
TZOFFSETFROM:+0000
TZOFFSETTO:+0000
TZNAME:UTC
DTSTART:20210101T000000
END:STANDARD
END:VTIMEZONE
BEGIN:VEVENT
DTSTART;TZID=UTC:20221202T180000
DTEND;TZID=UTC:20221202T180000
DTSTAMP:20260426T011152
CREATED:20211005T155331Z
LAST-MODIFIED:20221102T161704Z
UID:9748-1670004000-1670004000@rantoulchamber.com
SUMMARY:RACC 2022 Light up Rantoul Christmas Parade
DESCRIPTION:
URL:https://rantoulchamber.com/event/2021-light-up-rantoul-christmas-parade/
CATEGORIES:Community Events
ATTACH;FMTTYPE=image/png:https://rantoulchamber.com/wp-content/uploads/2021/10/Promo-1.png
END:VEVENT
END:VCALENDAR