BEGIN:VCALENDAR
VERSION:2.0
PRODID:-//Rantoul Chamber of Commerce - ECPv6.15.20//NONSGML v1.0//EN
CALSCALE:GREGORIAN
METHOD:PUBLISH
X-ORIGINAL-URL:https://rantoulchamber.com
X-WR-CALDESC:Events for Rantoul Chamber of Commerce
REFRESH-INTERVAL;VALUE=DURATION:PT1H
X-Robots-Tag:noindex
X-PUBLISHED-TTL:PT1H
BEGIN:VTIMEZONE
TZID:UTC
BEGIN:STANDARD
TZOFFSETFROM:+0000
TZOFFSETTO:+0000
TZNAME:UTC
DTSTART:20210101T000000
END:STANDARD
END:VTIMEZONE
BEGIN:VEVENT
DTSTART;TZID=UTC:20220915T113000
DTEND;TZID=UTC:20220915T170000
DTSTAMP:20260426T034828
CREATED:20220307T154658Z
LAST-MODIFIED:20220825T152422Z
UID:10089-1663241400-1663261200@rantoulchamber.com
SUMMARY:Village of Rantoul's Senior Luncheon
DESCRIPTION:RSVP: 217-893-5700 \n 
URL:https://rantoulchamber.com/event/senior-lucheon/
LOCATION:Rantoul Rec. Center\, 100 W. Flessner\, Rantoul\, IL\, 61866\, United States
CATEGORIES:Community Events
ATTACH;FMTTYPE=image/jpeg:https://rantoulchamber.com/wp-content/uploads/2022/03/senior-Lunch.jpg
END:VEVENT
END:VCALENDAR