BEGIN:VCALENDAR
VERSION:2.0
PRODID:-//Rantoul Chamber of Commerce - ECPv6.15.20//NONSGML v1.0//EN
CALSCALE:GREGORIAN
METHOD:PUBLISH
X-ORIGINAL-URL:https://rantoulchamber.com
X-WR-CALDESC:Events for Rantoul Chamber of Commerce
REFRESH-INTERVAL;VALUE=DURATION:PT1H
X-Robots-Tag:noindex
X-PUBLISHED-TTL:PT1H
BEGIN:VTIMEZONE
TZID:UTC
BEGIN:STANDARD
TZOFFSETFROM:+0000
TZOFFSETTO:+0000
TZNAME:UTC
DTSTART:20240101T000000
END:STANDARD
END:VTIMEZONE
BEGIN:VEVENT
DTSTART;TZID=UTC:20251206T150000
DTEND;TZID=UTC:20251206T170000
DTSTAMP:20260423T203029
CREATED:20251201T151513Z
LAST-MODIFIED:20251201T151513Z
UID:11114-1765033200-1765040400@rantoulchamber.com
SUMMARY:Christmas in the Village
DESCRIPTION:
URL:https://rantoulchamber.com/event/christmas-in-the-village/
ATTACH;FMTTYPE=image/jpeg:https://rantoulchamber.com/wp-content/uploads/2025/12/Christmas-in-the-Village.jpg
END:VEVENT
BEGIN:VEVENT
DTSTART;TZID=UTC:20251206T170000
DTEND;TZID=UTC:20251206T180000
DTSTAMP:20260423T203029
CREATED:20251201T151710Z
LAST-MODIFIED:20251201T151710Z
UID:11117-1765040400-1765044000@rantoulchamber.com
SUMMARY:Christmas Parade
DESCRIPTION:
URL:https://rantoulchamber.com/event/christmas-parade/
ATTACH;FMTTYPE=image/jpeg:https://rantoulchamber.com/wp-content/uploads/2025/12/Christmas-Parade.jpg
END:VEVENT
END:VCALENDAR