BEGIN:VCALENDAR
VERSION:2.0
PRODID:-//Rantoul Chamber of Commerce - ECPv6.15.20//NONSGML v1.0//EN
CALSCALE:GREGORIAN
METHOD:PUBLISH
X-WR-CALNAME:Rantoul Chamber of Commerce
X-ORIGINAL-URL:https://rantoulchamber.com
X-WR-CALDESC:Events for Rantoul Chamber of Commerce
REFRESH-INTERVAL;VALUE=DURATION:PT1H
X-Robots-Tag:noindex
X-PUBLISHED-TTL:PT1H
BEGIN:VTIMEZONE
TZID:UTC
BEGIN:STANDARD
TZOFFSETFROM:+0000
TZOFFSETTO:+0000
TZNAME:UTC
DTSTART:20240101T000000
END:STANDARD
END:VTIMEZONE
BEGIN:VEVENT
DTSTART;TZID=UTC:20251114T180000
DTEND;TZID=UTC:20251114T220000
DTSTAMP:20260423T214812
CREATED:20251001T143254Z
LAST-MODIFIED:20251001T143254Z
UID:11090-1763143200-1763157600@rantoulchamber.com
SUMMARY:Annual Banquet & Awards Dinner
DESCRIPTION:
URL:https://rantoulchamber.com/event/annual-banquet-awards-dinner/
LOCATION:The Linden Banquet Center\, 224 Wheat Avenue\, Rantoul\, IL\, 61866
ATTACH;FMTTYPE=image/png:https://rantoulchamber.com/wp-content/uploads/2025/10/Postcard-Size-Front-.png
END:VEVENT
END:VCALENDAR