BEGIN:VCALENDAR
VERSION:2.0
PRODID:-//Rantoul Chamber of Commerce - ECPv6.15.20//NONSGML v1.0//EN
CALSCALE:GREGORIAN
METHOD:PUBLISH
X-ORIGINAL-URL:https://rantoulchamber.com
X-WR-CALDESC:Events for Rantoul Chamber of Commerce
REFRESH-INTERVAL;VALUE=DURATION:PT1H
X-Robots-Tag:noindex
X-PUBLISHED-TTL:PT1H
BEGIN:VTIMEZONE
TZID:UTC
BEGIN:STANDARD
TZOFFSETFROM:+0000
TZOFFSETTO:+0000
TZNAME:UTC
DTSTART:20240101T000000
END:STANDARD
END:VTIMEZONE
BEGIN:VEVENT
DTSTART;TZID=UTC:20250326T150000
DTEND;TZID=UTC:20250326T153000
DTSTAMP:20260424T073421
CREATED:20250311T143233Z
LAST-MODIFIED:20250311T143233Z
UID:11009-1743001200-1743003000@rantoulchamber.com
SUMMARY:Ribbon Cutting at Flavor Fusion
DESCRIPTION:
URL:https://rantoulchamber.com/event/ribbon-cutting-at-flavor-fusion/
ATTACH;FMTTYPE=image/jpeg:https://rantoulchamber.com/wp-content/uploads/2025/03/Flavor-Fusion-Ribbon-Cutting-.jpg
END:VEVENT
END:VCALENDAR