BEGIN:VCALENDAR
VERSION:2.0
PRODID:-//Rantoul Chamber of Commerce - ECPv6.15.20//NONSGML v1.0//EN
CALSCALE:GREGORIAN
METHOD:PUBLISH
X-WR-CALNAME:Rantoul Chamber of Commerce
X-ORIGINAL-URL:https://rantoulchamber.com
X-WR-CALDESC:Events for Rantoul Chamber of Commerce
REFRESH-INTERVAL;VALUE=DURATION:PT1H
X-Robots-Tag:noindex
X-PUBLISHED-TTL:PT1H
BEGIN:VTIMEZONE
TZID:UTC
BEGIN:STANDARD
TZOFFSETFROM:+0000
TZOFFSETTO:+0000
TZNAME:UTC
DTSTART:20240101T000000
END:STANDARD
END:VTIMEZONE
BEGIN:VEVENT
DTSTART;TZID=UTC:20250114T113000
DTEND;TZID=UTC:20250114T130000
DTSTAMP:20260424T101718
CREATED:20241223T193957Z
LAST-MODIFIED:20241223T194106Z
UID:10975-1736854200-1736859600@rantoulchamber.com
SUMMARY:Lunch & Learn ~ Tuesday\, January 14th
DESCRIPTION:
URL:https://rantoulchamber.com/event/lunch-learn-tuesday-january-14th/
LOCATION:Rantoul Family Sports Complex\, 744 S Murray Road\, Rantoul
ATTACH;FMTTYPE=image/jpeg:https://rantoulchamber.com/wp-content/uploads/2024/12/January-14-th-State-of-the-Village.jpg
END:VEVENT
END:VCALENDAR