BEGIN:VCALENDAR
VERSION:2.0
PRODID:-//Rantoul Chamber of Commerce - ECPv6.15.20//NONSGML v1.0//EN
CALSCALE:GREGORIAN
METHOD:PUBLISH
X-ORIGINAL-URL:https://rantoulchamber.com
X-WR-CALDESC:Events for Rantoul Chamber of Commerce
REFRESH-INTERVAL;VALUE=DURATION:PT1H
X-Robots-Tag:noindex
X-PUBLISHED-TTL:PT1H
BEGIN:VTIMEZONE
TZID:UTC
BEGIN:STANDARD
TZOFFSETFROM:+0000
TZOFFSETTO:+0000
TZNAME:UTC
DTSTART:20230101T000000
END:STANDARD
END:VTIMEZONE
BEGIN:VEVENT
DTSTART;TZID=UTC:20241108T180000
DTEND;TZID=UTC:20241108T220000
DTSTAMP:20260424T124613
CREATED:20241001T165000Z
LAST-MODIFIED:20241001T165105Z
UID:10944-1731088800-1731103200@rantoulchamber.com
SUMMARY:RACC Annual Awards Banquet
DESCRIPTION:Purchase Tickets at – https://RACCMEMBERBANQUET2024.eventbrite.com\n  \nNominations can be made at – Excellence in Charity Award 2020 Nomination Form (jotform.com)
URL:https://rantoulchamber.com/event/racc-annual-awards-banquet/
LOCATION:The Linden Banquet Center\, 224 Wheat Avenue\, Rantoul\, IL\, 61866
ATTACH;FMTTYPE=application/pdf:https://rantoulchamber.com/wp-content/uploads/2024/10/Banquet-Flyer-made-by-Kim-1.pdf
END:VEVENT
END:VCALENDAR