BEGIN:VCALENDAR
VERSION:2.0
PRODID:-//Rantoul Chamber of Commerce - ECPv6.15.20//NONSGML v1.0//EN
CALSCALE:GREGORIAN
METHOD:PUBLISH
X-ORIGINAL-URL:https://rantoulchamber.com
X-WR-CALDESC:Events for Rantoul Chamber of Commerce
REFRESH-INTERVAL;VALUE=DURATION:PT1H
X-Robots-Tag:noindex
X-PUBLISHED-TTL:PT1H
BEGIN:VTIMEZONE
TZID:UTC
BEGIN:STANDARD
TZOFFSETFROM:+0000
TZOFFSETTO:+0000
TZNAME:UTC
DTSTART:20230101T000000
END:STANDARD
END:VTIMEZONE
BEGIN:VEVENT
DTSTART;TZID=UTC:20240921T180000
DTEND;TZID=UTC:20240921T230000
DTSTAMP:20260424T153139
CREATED:20240705T183205Z
LAST-MODIFIED:20240705T183723Z
UID:10910-1726941600-1726959600@rantoulchamber.com
SUMMARY:RACC Glow Golf Outing
DESCRIPTION:
URL:https://rantoulchamber.com/event/racc-glow-golf-outing/
LOCATION:Willow Pond Golf Course\, 808 Golfcourse Road\, Rantoul\, IL\, 61866\, United States
ATTACH;FMTTYPE=image/jpeg:https://rantoulchamber.com/wp-content/uploads/2024/07/Golf-Outing-Flyer.jpg
END:VEVENT
END:VCALENDAR